BEGIN:VCALENDAR
VERSION:2.0
PRODID:-//wp-events-plugin.com//7.2.3.1//EN
TZID:Europe/London
X-WR-TIMEZONE:Europe/London
BEGIN:VEVENT
UID:480@purbeck.events
DTSTART;TZID=Europe/London;VALUE=DATE:20241103
DTEND;TZID=Europe/London;VALUE=DATE:20241205
DTSTAMP:20240909T195632Z
URL:https://purbeck.events/events/christmas-cards-and-tags-workshop/
SUMMARY:Christmas Cards and Tags Workshop
DESCRIPTION:In this 2 hour workshop\, you'll explore a variety of crafting 
 techniques including stamping\, watercolour painting\, and stencilling to 
 bring your festive designs to life.
ATTACH;FMTTYPE=image/jpeg:https://pub-e9295818544a4479a353bf7a87bd39a9.r2.
 dev/purbeckevents/wp-content/uploads/2024/09/11152210/Christmas-Cards-and-
 Tags-Workshop.jpeg
CATEGORIES:Arts and Crafts,Christmas and New Year,Courses and Workshops
LOCATION:Mortons Manor\, 45 East Street\, Corfe Castle\, Dorset\, BH20 5EE\
 , United Kingdom
GEO:50.637764;-2.05571
X-APPLE-STRUCTURED-LOCATION;VALUE=URI;X-ADDRESS=45 East Street\, Corfe Cast
 le\, Dorset\, BH20 5EE\, United Kingdom;X-APPLE-RADIUS=100;X-TITLE=Mortons
  Manor:geo:50.637764,-2.05571
END:VEVENT
BEGIN:VTIMEZONE
TZID:Europe/London
X-LIC-LOCATION:Europe/London
BEGIN:STANDARD
DTSTART:20241027T010000
TZOFFSETFROM:+0100
TZOFFSETTO:+0000
TZNAME:GMT
END:STANDARD
END:VTIMEZONE
END:VCALENDAR